BEGIN:VCALENDAR
VERSION:2.0
PRODID:-//The Hiking Guide - ECPv6.14.0//NONSGML v1.0//EN
CALSCALE:GREGORIAN
METHOD:PUBLISH
X-ORIGINAL-URL:https://outdoorperformancecoaching.com
X-WR-CALDESC:Events for The Hiking Guide
REFRESH-INTERVAL;VALUE=DURATION:PT1H
X-Robots-Tag:noindex
X-PUBLISHED-TTL:PT1H
BEGIN:VTIMEZONE
TZID:Europe/London
BEGIN:DAYLIGHT
TZOFFSETFROM:+0000
TZOFFSETTO:+0100
TZNAME:BST
DTSTART:20250330T010000
END:DAYLIGHT
BEGIN:STANDARD
TZOFFSETFROM:+0100
TZOFFSETTO:+0000
TZNAME:GMT
DTSTART:20251026T010000
END:STANDARD
END:VTIMEZONE
BEGIN:VEVENT
DTSTART;TZID=Europe/London:20250709T080000
DTEND;TZID=Europe/London:20250709T170000
DTSTAMP:20260423T162747
CREATED:20250709T122217Z
LAST-MODIFIED:20250709T122217Z
UID:807-1752048000-1752080400@outdoorperformancecoaching.com
SUMMARY:Hiking Challenge #2
DESCRIPTION:
URL:https://outdoorperformancecoaching.com/event/hiking-challenge-2/
END:VEVENT
BEGIN:VEVENT
DTSTART;TZID=Europe/London:20250709T080000
DTEND;TZID=Europe/London:20250709T170000
DTSTAMP:20260423T162747
CREATED:20250709T122225Z
LAST-MODIFIED:20250709T122225Z
UID:810-1752048000-1752080400@outdoorperformancecoaching.com
SUMMARY:Hiking Challenge #3
DESCRIPTION:
URL:https://outdoorperformancecoaching.com/event/hiking-challenge-3/
END:VEVENT
END:VCALENDAR